BEGIN:VCALENDAR
VERSION:2.0
PRODID:-//pretix//Deduktionsspiele_Nord_Veranstaltungen//
BEGIN:VTIMEZONE
TZID:Europe/Berlin
BEGIN:STANDARD
DTSTART:20001029T040000
RRULE:FREQ=YEARLY;BYDAY=-1SU;BYMONTH=10
TZNAME:CET
TZOFFSETFROM:+0200
TZOFFSETTO:+0100
END:STANDARD
BEGIN:DAYLIGHT
DTSTART:20000326T030000
RRULE:FREQ=YEARLY;BYDAY=-1SU;BYMONTH=3
TZNAME:CEST
TZOFFSETFROM:+0100
TZOFFSETTO:+0200
END:DAYLIGHT
END:VTIMEZONE
BEGIN:VEVENT
UID:pretix-dsn-mouz-5-0@events.deduktionsspiele-nord.de
DTSTART;TZID=Europe/Berlin:20260429T183000
DTEND;TZID=Europe/Berlin:20260429T230000
DESCRIPTION:Tickets: https://events.deduktionsspiele-nord.de/dsn/mouz-5/\nV
 eranstalter: Deduktionsspiele Nord
DTSTAMP:20260422T090812Z
LOCATION:Glockengiesserwall 1\, 20095 Hamburg
SUMMARY:Blood on the Clocktower im MOUZ HQ
END:VEVENT
END:VCALENDAR
